View In:
ArcGIS JavaScript
ArcGIS Online map viewer
ArcGIS Earth
ArcMap
ArcGIS Pro
View Footprint In:
ArcGIS Online map viewer
Service Description:
Map Name: Hillshade
Legend
All Layers and Tables
Dynamic Legend
Dynamic All Layers
Layers:
Description:
Service Item Id: aa56f2c4f24b478dbae79536b3aa8304
Copyright Text:
Spatial Reference:
102717
(2262)
Single Fused Map Cache: true
Tile Info:
- Height: 256
- Width: 256
- DPI: 96
-
Levels of Detail: 19
-
Level ID: 0
[ Start Tile, End Tile ]
- Resolution: 256349.4403012924
- Scale: 2.9531514585738057E8
-
Level ID: 1
[ Start Tile, End Tile ]
- Resolution: 128174.7201506462
- Scale: 1.4765757292869028E8
-
Level ID: 2
[ Start Tile, End Tile ]
- Resolution: 64087.3600753231
- Scale: 7.382878646434514E7
-
Level ID: 3
[ Start Tile, End Tile ]
- Resolution: 32043.68003766155
- Scale: 3.691439323217257E7
-
Level ID: 4
[ Start Tile, End Tile ]
- Resolution: 16021.840018830775
- Scale: 1.8457196616086286E7
-
Level ID: 5
[ Start Tile, End Tile ]
- Resolution: 8010.9200094153875
- Scale: 9228598.308043143
-
Level ID: 6
[ Start Tile, End Tile ]
- Resolution: 4005.4600047076938
- Scale: 4614299.154021571
-
Level ID: 7
[ Start Tile, End Tile ]
- Resolution: 2002.7300023538469
- Scale: 2307149.5770107857
-
Level ID: 8
[ Start Tile, End Tile ]
- Resolution: 1001.3650011769234
- Scale: 1153574.7885053928
-
Level ID: 9
[ Start Tile, End Tile ]
- Resolution: 500.6825005884617
- Scale: 576787.3942526964
-
Level ID: 10
[ Start Tile, End Tile ]
- Resolution: 250.34125029423086
- Scale: 288393.6971263482
-
Level ID: 11
[ Start Tile, End Tile ]
- Resolution: 125.17062514711543
- Scale: 144196.8485631741
-
Level ID: 12
[ Start Tile, End Tile ]
- Resolution: 62.585312573557715
- Scale: 72098.42428158705
-
Level ID: 13
[ Start Tile, End Tile ]
- Resolution: 31.292656286778858
- Scale: 36049.21214079353
-
Level ID: 14
[ Start Tile, End Tile ]
- Resolution: 15.646328143389429
- Scale: 18024.606070396763
-
Level ID: 15
[ Start Tile, End Tile ]
- Resolution: 7.823164071694714
- Scale: 9012.303035198382
-
Level ID: 16
[ Start Tile, End Tile ]
- Resolution: 3.911582035847357
- Scale: 4506.151517599191
-
Level ID: 17
[ Start Tile, End Tile ]
- Resolution: 1.9557910179236786
- Scale: 2253.0757587995954
-
Level ID: 18
[ Start Tile, End Tile ]
- Resolution: 0.9778955089618393
- Scale: 1126.5378793997977
- Format: PNG
- Compression Quality: 0.0
- Origin: X: -3.1664436691898763E7
Y: 1.8281090149353392E7
- Spatial Reference: 102717
(2262)
Initial Extent:
XMin: 1021424.811208036
YMin: 1083438.1941183982
XMax: 1194073.248708036
YMax: 1244929.0795350648
Spatial Reference: 102717
(2262)
Full Extent:
XMin: 1017790.2411117203
YMin: 1090974.4354378425
XMax: 1181265.1104710181
YMax: 1237784.3312711758
Spatial Reference: 102717
(2262)
Units: esriFeet
Supported Image Format Types: PNG32,PNG24,PNG,JPG,DIB,TIFF,EMF,PS,PDF,GIF,SVG,SVGZ,BMP
Document Info:
Title: Map1
Author:
Comments:
Subject:
Category:
Keywords: Hillshade
AntialiasingMode: Fast
TextAntialiasingMode: Force
Supports Dynamic Layers: true
Resampling: true
MaxRecordCount: 2000
MaxImageHeight: 4096
MaxImageWidth: 4096
Supported Query Formats: JSON, geoJSON, PBF
Supports Query Data Elements: true
Min Scale: 576787.3942526964
Max Scale: 1
Supports Datum Transformation: true
Child Resources:
Info
Dynamic Layer
Supported Operations:
Export Map
Identify
QueryDomains
QueryLegends
Find
Return Updates