{
 "currentVersion": 10.81,
 "cimVersion": "2.6.0",
 "serviceDescription": "",
 "mapName": "Hillshade",
 "description": "",
 "copyrightText": "",
 "supportsDynamicLayers": true,
 "layers": [
  {
   "id": 0,
   "name": "HillshadeBlend.tif",
   "parentLayerId": -1,
   "defaultVisibility": true,
   "subLayerIds": null,
   "minScale": 0,
   "maxScale": 0,
   "type": "Raster Layer",
   "supportsDynamicLegends": true
  }
 ],
 "tables": [],
 "spatialReference": {
  "wkid": 102717,
  "latestWkid": 2262,
  "xyTolerance": 0.003280833333333333,
  "zTolerance": 0.001,
  "mTolerance": 0.001,
  "falseX": -17299100,
  "falseY": -47344700,
  "xyUnits": 3048.0060960121928,
  "falseZ": -100000,
  "zUnits": 10000,
  "falseM": -100000,
  "mUnits": 10000
 },
 "singleFusedMapCache": true,
 "tileInfo": {
  "rows": 256,
  "cols": 256,
  "dpi": 96,
  "format": "PNG",
  "compressionQuality": 0,
  "origin": {
   "x": -3.1664436691898763E7,
   "y": 1.8281090149353392E7
  },
  "spatialReference": {
   "wkid": 102717,
   "latestWkid": 2262,
   "xyTolerance": 0.003280833333333333,
   "zTolerance": 0.001,
   "mTolerance": 0.001,
   "falseX": -17299100,
   "falseY": -47344700,
   "xyUnits": 3048.0060960121928,
   "falseZ": -100000,
   "zUnits": 10000,
   "falseM": -100000,
   "mUnits": 10000
  },
  "lods": [
   {
    "level": 0,
    "resolution": 256349.4403012924,
    "scale": 2.9531514585738057E8
   },
   {
    "level": 1,
    "resolution": 128174.7201506462,
    "scale": 1.4765757292869028E8
   },
   {
    "level": 2,
    "resolution": 64087.3600753231,
    "scale": 7.382878646434514E7
   },
   {
    "level": 3,
    "resolution": 32043.68003766155,
    "scale": 3.691439323217257E7
   },
   {
    "level": 4,
    "resolution": 16021.840018830775,
    "scale": 1.8457196616086286E7
   },
   {
    "level": 5,
    "resolution": 8010.9200094153875,
    "scale": 9228598.308043143
   },
   {
    "level": 6,
    "resolution": 4005.4600047076938,
    "scale": 4614299.154021571
   },
   {
    "level": 7,
    "resolution": 2002.7300023538469,
    "scale": 2307149.5770107857
   },
   {
    "level": 8,
    "resolution": 1001.3650011769234,
    "scale": 1153574.7885053928
   },
   {
    "level": 9,
    "resolution": 500.6825005884617,
    "scale": 576787.3942526964
   },
   {
    "level": 10,
    "resolution": 250.34125029423086,
    "scale": 288393.6971263482
   },
   {
    "level": 11,
    "resolution": 125.17062514711543,
    "scale": 144196.8485631741
   },
   {
    "level": 12,
    "resolution": 62.585312573557715,
    "scale": 72098.42428158705
   },
   {
    "level": 13,
    "resolution": 31.292656286778858,
    "scale": 36049.21214079353
   },
   {
    "level": 14,
    "resolution": 15.646328143389429,
    "scale": 18024.606070396763
   },
   {
    "level": 15,
    "resolution": 7.823164071694714,
    "scale": 9012.303035198382
   },
   {
    "level": 16,
    "resolution": 3.911582035847357,
    "scale": 4506.151517599191
   },
   {
    "level": 17,
    "resolution": 1.9557910179236786,
    "scale": 2253.0757587995954
   },
   {
    "level": 18,
    "resolution": 0.9778955089618393,
    "scale": 1126.5378793997977
   }
  ]
 },
 "initialExtent": {
  "xmin": 1021424.811208036,
  "ymin": 1083438.1941183982,
  "xmax": 1194073.248708036,
  "ymax": 1244929.0795350648,
  "spatialReference": {
   "wkid": 102717,
   "latestWkid": 2262,
   "xyTolerance": 0.003280833333333333,
   "zTolerance": 0.001,
   "mTolerance": 0.001,
   "falseX": -17299100,
   "falseY": -47344700,
   "xyUnits": 3048.0060960121928,
   "falseZ": -100000,
   "zUnits": 10000,
   "falseM": -100000,
   "mUnits": 10000
  }
 },
 "fullExtent": {
  "xmin": 1017790.2411117203,
  "ymin": 1090974.4354378425,
  "xmax": 1181265.1104710181,
  "ymax": 1237784.3312711758,
  "spatialReference": {
   "wkid": 102717,
   "latestWkid": 2262,
   "xyTolerance": 0.003280833333333333,
   "zTolerance": 0.001,
   "mTolerance": 0.001,
   "falseX": -17299100,
   "falseY": -47344700,
   "xyUnits": 3048.0060960121928,
   "falseZ": -100000,
   "zUnits": 10000,
   "falseM": -100000,
   "mUnits": 10000
  }
 },
 "minScale": 576787.3942526964,
 "maxScale": 1,
 "units": "esriFeet",
 "supportedImageFormatTypes": "PNG32,PNG24,PNG,JPG,DIB,TIFF,EMF,PS,PDF,GIF,SVG,SVGZ,BMP",
 "documentInfo": {
  "Title": "Map1",
  "Author": "",
  "Comments": "",
  "Subject": "",
  "Category": "",
  "AntialiasingMode": "Fast",
  "TextAntialiasingMode": "Force",
  "Keywords": "Hillshade"
 },
 "supportsQueryDomains": true,
 "capabilities": "Map,Query,Data",
 "supportedQueryFormats": "JSON, geoJSON, PBF",
 "exportTilesAllowed": false,
 "referenceScale": 0.0,
 "datumTransformations": [
  {
   "geoTransforms": [
    {
     "wkid": 108190,
     "latestWkid": 108190,
     "transformForward": true,
     "name": "WGS_1984_(ITRF00)_To_NAD_1983"
    }
   ]
  },
  {
   "geoTransforms": [
    {
     "wkid": 108190,
     "latestWkid": 108190,
     "transformForward": false,
     "name": "WGS_1984_(ITRF00)_To_NAD_1983"
    }
   ]
  },
  {
   "geoTransforms": [
    {
     "wkid": 108363,
     "latestWkid": 108363,
     "transformForward": false,
     "name": "WGS_1984_(ITRF08)_To_NAD_1983_2011"
    },
    {
     "wkid": 108190,
     "latestWkid": 108190,
     "transformForward": true,
     "name": "WGS_1984_(ITRF00)_To_NAD_1983"
    }
   ]
  },
  {
   "geoTransforms": [
    {
     "wkid": 108190,
     "latestWkid": 108190,
     "transformForward": false,
     "name": "WGS_1984_(ITRF00)_To_NAD_1983"
    },
    {
     "wkid": 108363,
     "latestWkid": 108363,
     "transformForward": true,
     "name": "WGS_1984_(ITRF08)_To_NAD_1983_2011"
    }
   ]
  }
 ],
 "supportsDatumTransformation": true,
 "archivingInfo": {
  "supportsHistoricMoment": false
 },
 "supportsClipping": true,
 "supportsSpatialFilter": true,
 "supportsQueryDataElements": true,
 "maxRecordCount": 2000,
 "maxImageHeight": 4096,
 "maxImageWidth": 4096,
 "supportedExtensions": "",
 "resampling": true,
 "serviceItemId": "aa56f2c4f24b478dbae79536b3aa8304"
}
