{
 "currentVersion": 10.81,
 "cimVersion": "2.6.0",
 "serviceDescription": "",
 "mapName": "Images_2017",
 "description": "",
 "copyrightText": "",
 "supportsDynamicLayers": false,
 "layers": [
  {
   "id": 0,
   "name": "imagery.DBO.Town_of_Royalton_rgb",
   "parentLayerId": -1,
   "defaultVisibility": true,
   "subLayerIds": null,
   "minScale": 0,
   "maxScale": 0,
   "type": "Raster Layer",
   "supportsDynamicLegends": true
  },
  {
   "id": 1,
   "name": "imagery.DBO.Town_of_Porter_rgb",
   "parentLayerId": -1,
   "defaultVisibility": true,
   "subLayerIds": null,
   "minScale": 0,
   "maxScale": 0,
   "type": "Raster Layer",
   "supportsDynamicLegends": true
  },
  {
   "id": 2,
   "name": "imagery.DBO.Town_of_Pendleton_rgb",
   "parentLayerId": -1,
   "defaultVisibility": true,
   "subLayerIds": null,
   "minScale": 0,
   "maxScale": 0,
   "type": "Raster Layer",
   "supportsDynamicLegends": true
  },
  {
   "id": 3,
   "name": "imagery.DBO.Town_of_Niagara_rgb",
   "parentLayerId": -1,
   "defaultVisibility": true,
   "subLayerIds": null,
   "minScale": 0,
   "maxScale": 0,
   "type": "Raster Layer",
   "supportsDynamicLegends": true
  },
  {
   "id": 4,
   "name": "imagery.DBO.Town_of_Newfane_rgb",
   "parentLayerId": -1,
   "defaultVisibility": true,
   "subLayerIds": null,
   "minScale": 0,
   "maxScale": 0,
   "type": "Raster Layer",
   "supportsDynamicLegends": true
  },
  {
   "id": 5,
   "name": "imagery.DBO.Town_of_Lockport_rgb",
   "parentLayerId": -1,
   "defaultVisibility": true,
   "subLayerIds": null,
   "minScale": 0,
   "maxScale": 0,
   "type": "Raster Layer",
   "supportsDynamicLegends": true
  },
  {
   "id": 6,
   "name": "imagery.DBO.Town_of_Lewiston_rgb",
   "parentLayerId": -1,
   "defaultVisibility": true,
   "subLayerIds": null,
   "minScale": 0,
   "maxScale": 0,
   "type": "Raster Layer",
   "supportsDynamicLegends": true
  },
  {
   "id": 7,
   "name": "imagery.DBO.Town_of_Hartland_rgb",
   "parentLayerId": -1,
   "defaultVisibility": true,
   "subLayerIds": null,
   "minScale": 0,
   "maxScale": 0,
   "type": "Raster Layer",
   "supportsDynamicLegends": true
  },
  {
   "id": 8,
   "name": "imagery.DBO.Town_of_Cambria_2017_rgb",
   "parentLayerId": -1,
   "defaultVisibility": true,
   "subLayerIds": null,
   "minScale": 0,
   "maxScale": 0,
   "type": "Raster Layer",
   "supportsDynamicLegends": true
  },
  {
   "id": 9,
   "name": "imagery.DBO.Town_of_Wilson_2017_rgb",
   "parentLayerId": -1,
   "defaultVisibility": true,
   "subLayerIds": null,
   "minScale": 0,
   "maxScale": 0,
   "type": "Raster Layer",
   "supportsDynamicLegends": true
  },
  {
   "id": 10,
   "name": "imagery.DBO.Town_of_Wheatfield_2017_rgb",
   "parentLayerId": -1,
   "defaultVisibility": true,
   "subLayerIds": null,
   "minScale": 0,
   "maxScale": 0,
   "type": "Raster Layer",
   "supportsDynamicLegends": true
  },
  {
   "id": 11,
   "name": "imagery.DBO.Town_of_Somerset_2017_rgb",
   "parentLayerId": -1,
   "defaultVisibility": true,
   "subLayerIds": null,
   "minScale": 0,
   "maxScale": 0,
   "type": "Raster Layer",
   "supportsDynamicLegends": true
  },
  {
   "id": 12,
   "name": "imagery.DBO.City_of_North_Tonawanda_2017_rgb",
   "parentLayerId": -1,
   "defaultVisibility": true,
   "subLayerIds": null,
   "minScale": 0,
   "maxScale": 0,
   "type": "Raster Layer",
   "supportsDynamicLegends": true
  },
  {
   "id": 13,
   "name": "imagery.DBO.City_of_Niagara_Falls_2017_rgb",
   "parentLayerId": -1,
   "defaultVisibility": true,
   "subLayerIds": null,
   "minScale": 0,
   "maxScale": 0,
   "type": "Raster Layer",
   "supportsDynamicLegends": true
  },
  {
   "id": 14,
   "name": "imagery.DBO.City_of_Lockport_2017_rgb",
   "parentLayerId": -1,
   "defaultVisibility": true,
   "subLayerIds": null,
   "minScale": 0,
   "maxScale": 0,
   "type": "Raster Layer",
   "supportsDynamicLegends": true
  }
 ],
 "tables": [],
 "spatialReference": {
  "wkid": 103119,
  "latestWkid": 6541,
  "xyTolerance": 0.003280833333333333,
  "zTolerance": 2.0E-4,
  "mTolerance": 2.0E-4,
  "falseX": -17299100,
  "falseY": -47344700,
  "xyUnits": 3048.0060960121928,
  "falseZ": -100000,
  "zUnits": 10000,
  "falseM": -100000,
  "mUnits": 10000
 },
 "singleFusedMapCache": true,
 "tileInfo": {
  "rows": 256,
  "cols": 256,
  "dpi": 96,
  "format": "Mixed",
  "compressionQuality": 75,
  "origin": {
   "x": -3.1664436691898763E7,
   "y": 1.8281090149353392E7
  },
  "spatialReference": {
   "wkid": 103119,
   "latestWkid": 6541,
   "xyTolerance": 0.003280833333333333,
   "zTolerance": 2.0E-4,
   "mTolerance": 2.0E-4,
   "falseX": -17299100,
   "falseY": -47344700,
   "xyUnits": 3048.0060960121928,
   "falseZ": -100000,
   "zUnits": 10000,
   "falseM": -100000,
   "mUnits": 10000
  },
  "lods": [
   {
    "level": 0,
    "resolution": 256349.4403012924,
    "scale": 2.9531514585738057E8
   },
   {
    "level": 1,
    "resolution": 128174.7201506462,
    "scale": 1.4765757292869028E8
   },
   {
    "level": 2,
    "resolution": 64087.3600753231,
    "scale": 7.382878646434514E7
   },
   {
    "level": 3,
    "resolution": 32043.68003766155,
    "scale": 3.691439323217257E7
   },
   {
    "level": 4,
    "resolution": 16021.840018830775,
    "scale": 1.8457196616086286E7
   },
   {
    "level": 5,
    "resolution": 8010.9200094153875,
    "scale": 9228598.308043143
   },
   {
    "level": 6,
    "resolution": 4005.4600047076938,
    "scale": 4614299.154021571
   },
   {
    "level": 7,
    "resolution": 2002.7300023538469,
    "scale": 2307149.5770107857
   },
   {
    "level": 8,
    "resolution": 1001.3650011769234,
    "scale": 1153574.7885053928
   },
   {
    "level": 9,
    "resolution": 500.6825005884617,
    "scale": 576787.3942526964
   },
   {
    "level": 10,
    "resolution": 250.34125029423086,
    "scale": 288393.6971263482
   },
   {
    "level": 11,
    "resolution": 125.17062514711543,
    "scale": 144196.8485631741
   },
   {
    "level": 12,
    "resolution": 62.585312573557715,
    "scale": 72098.42428158705
   },
   {
    "level": 13,
    "resolution": 31.292656286778858,
    "scale": 36049.21214079353
   },
   {
    "level": 14,
    "resolution": 15.646328143389429,
    "scale": 18024.606070396763
   },
   {
    "level": 15,
    "resolution": 7.823164071694714,
    "scale": 9012.303035198382
   },
   {
    "level": 16,
    "resolution": 3.911582035847357,
    "scale": 4506.151517599191
   },
   {
    "level": 17,
    "resolution": 1.9557910179236786,
    "scale": 2253.0757587995954
   },
   {
    "level": 18,
    "resolution": 0.9778955089618393,
    "scale": 1126.5378793997977
   }
  ]
 },
 "initialExtent": {
  "xmin": 1005947.9918350083,
  "ymin": 1095437.4460655628,
  "xmax": 1219807.0991932712,
  "ymax": 1240637.4460655628,
  "spatialReference": {
   "wkid": 103119,
   "latestWkid": 6541,
   "xyTolerance": 0.003280833333333333,
   "zTolerance": 2.0E-4,
   "mTolerance": 2.0E-4,
   "falseX": -17299100,
   "falseY": -47344700,
   "xyUnits": 3048.0060960121928,
   "falseZ": -100000,
   "zUnits": 10000,
   "falseM": -100000,
   "mUnits": 10000
  }
 },
 "fullExtent": {
  "xmin": 1014000.0001220703,
  "ymin": 1098000.0001220703,
  "xmax": 1182000.0001220703,
  "ymax": 1230000.0001220703,
  "spatialReference": {
   "wkid": 103119,
   "latestWkid": 6541,
   "xyTolerance": 0.003280833333333333,
   "zTolerance": 2.0E-4,
   "mTolerance": 2.0E-4,
   "falseX": -17299100,
   "falseY": -47344700,
   "xyUnits": 3048.0060960121928,
   "falseZ": -100000,
   "zUnits": 10000,
   "falseM": -100000,
   "mUnits": 10000
  }
 },
 "minScale": 288393.6971263482,
 "maxScale": 1126.5378793997977,
 "minLOD": 10,
 "maxLOD": 18,
 "units": "esriFeet",
 "supportedImageFormatTypes": "PNG32,PNG24,PNG,JPG,DIB,TIFF,EMF,PS,PDF,GIF,SVG,SVGZ,BMP",
 "documentInfo": {
  "Title": "Map1",
  "Author": "",
  "Comments": "",
  "Subject": "",
  "Category": "",
  "AntialiasingMode": "Fast",
  "TextAntialiasingMode": "Force",
  "Keywords": "Imagery 2017"
 },
 "supportsQueryDomains": true,
 "capabilities": "Map",
 "supportedQueryFormats": "JSON, geoJSON, PBF",
 "exportTilesAllowed": false,
 "referenceScale": 0.0,
 "supportsDatumTransformation": true,
 "archivingInfo": {
  "supportsHistoricMoment": false
 },
 "supportsClipping": true,
 "supportsSpatialFilter": true,
 "supportsQueryDataElements": true,
 "maxRecordCount": 2000,
 "maxImageHeight": 4096,
 "maxImageWidth": 4096,
 "supportedExtensions": "",
 "serviceItemId": "f9716ec76a5f4da88810ead81a22adb8"
}
